BEGIN:VCALENDAR
VERSION:2.0
PRODID:-//DanseQuiVive! - ECPv6.15.20//NONSGML v1.0//EN
CALSCALE:GREGORIAN
METHOD:PUBLISH
X-WR-CALNAME:DanseQuiVive!
X-ORIGINAL-URL:https://dansequivive.fr
X-WR-CALDESC:Évènements pour DanseQuiVive!
REFRESH-INTERVAL;VALUE=DURATION:PT1H
X-Robots-Tag:noindex
X-PUBLISHED-TTL:PT1H
BEGIN:VTIMEZONE
TZID:Europe/Paris
BEGIN:DAYLIGHT
TZOFFSETFROM:+0100
TZOFFSETTO:+0200
TZNAME:CEST
DTSTART:20250330T010000
END:DAYLIGHT
BEGIN:STANDARD
TZOFFSETFROM:+0200
TZOFFSETTO:+0100
TZNAME:CET
DTSTART:20251026T010000
END:STANDARD
BEGIN:DAYLIGHT
TZOFFSETFROM:+0100
TZOFFSETTO:+0200
TZNAME:CEST
DTSTART:20260329T010000
END:DAYLIGHT
BEGIN:STANDARD
TZOFFSETFROM:+0200
TZOFFSETTO:+0100
TZNAME:CET
DTSTART:20261025T010000
END:STANDARD
BEGIN:DAYLIGHT
TZOFFSETFROM:+0100
TZOFFSETTO:+0200
TZNAME:CEST
DTSTART:20270328T010000
END:DAYLIGHT
BEGIN:STANDARD
TZOFFSETFROM:+0200
TZOFFSETTO:+0100
TZNAME:CET
DTSTART:20271031T010000
END:STANDARD
END:VTIMEZONE
BEGIN:VEVENT
DTSTART;TZID=Europe/Paris:20260423T193000
DTEND;TZID=Europe/Paris:20260423T220000
DTSTAMP:20260424T054729
CREATED:20260325T081958Z
LAST-MODIFIED:20260407T095503Z
UID:7003-1776972600-1776981600@dansequivive.fr
SUMMARY:Atelier musique d'ensemble 2è voix (avec Schéhérazade)
DESCRIPTION:
URL:https://dansequivive.fr/evenement/atelier-musique-densemble-2e-voix-avec-sheherazade/
LOCATION:Salle Eluard\, 2\, rue Burnley\, Vitry sur Seine\, 94400\, France
CATEGORIES:Atelier musique d'ensemble
END:VEVENT
BEGIN:VEVENT
DTSTART;TZID=Europe/Paris:20260422T193000
DTEND;TZID=Europe/Paris:20260422T220000
DTSTAMP:20260424T054729
CREATED:20260325T075707Z
LAST-MODIFIED:20260327T101551Z
UID:6988-1776886200-1776895200@dansequivive.fr
SUMMARY:Atelier danse avec Sandra
DESCRIPTION:
URL:https://dansequivive.fr/evenement/atelier-danse-avec-serge-4/
LOCATION:Salle Auber à Vitry\, 18 rue Auber\, Vitry\, 94400\, France
CATEGORIES:Atelier danse
END:VEVENT
BEGIN:VEVENT
DTSTART;TZID=Europe/Paris:20260420T190000
DTEND;TZID=Europe/Paris:20260420T190000
DTSTAMP:20260424T054729
CREATED:20260326T081608Z
LAST-MODIFIED:20260326T081608Z
UID:7011-1776711600-1776711600@dansequivive.fr
SUMMARY:Atelier diato
DESCRIPTION:
URL:https://dansequivive.fr/evenement/atelier-diato-9/
LOCATION:Salle Auber à Vitry\, 18 rue Auber\, Vitry\, 94400\, France
CATEGORIES:Atelier diato
END:VEVENT
BEGIN:VEVENT
DTSTART;TZID=Europe/Paris:20260416T193000
DTEND;TZID=Europe/Paris:20260416T220000
DTSTAMP:20260424T054729
CREATED:20260325T081829Z
LAST-MODIFIED:20260325T081829Z
UID:7001-1776367800-1776376800@dansequivive.fr
SUMMARY:Atelier musique d'ensemble
DESCRIPTION:
URL:https://dansequivive.fr/evenement/atelier-musique-densemble-2/
LOCATION:Salle Eluard\, 2\, rue Burnley\, Vitry sur Seine\, 94400\, France
CATEGORIES:Atelier musique d'ensemble
END:VEVENT
BEGIN:VEVENT
DTSTART;TZID=Europe/Paris:20260415T193000
DTEND;TZID=Europe/Paris:20260415T220000
DTSTAMP:20260424T054729
CREATED:20260325T075611Z
LAST-MODIFIED:20260325T075611Z
UID:6986-1776281400-1776290400@dansequivive.fr
SUMMARY:Atelier danse avec Schéhérazade
DESCRIPTION:
URL:https://dansequivive.fr/evenement/atelier-danse-avec-scheherazade/
LOCATION:Salle Auber à Vitry\, 18 rue Auber\, Vitry\, 94400\, France
CATEGORIES:Atelier danse
END:VEVENT
BEGIN:VEVENT
DTSTART;TZID=Europe/Paris:20260413T190000
DTEND;TZID=Europe/Paris:20260413T190000
DTSTAMP:20260424T054729
CREATED:20260326T081835Z
LAST-MODIFIED:20260326T081835Z
UID:7021-1776106800-1776106800@dansequivive.fr
SUMMARY:Atelier diatox
DESCRIPTION:
URL:https://dansequivive.fr/evenement/atelier-diatox-7/
LOCATION:Salle Auber à Vitry\, 18 rue Auber\, Vitry\, 94400\, France
CATEGORIES:Atelier diato
END:VEVENT
BEGIN:VEVENT
DTSTART;TZID=Europe/Paris:20260409T193000
DTEND;TZID=Europe/Paris:20260409T220000
DTSTAMP:20260424T054729
CREATED:20260325T081709Z
LAST-MODIFIED:20260325T081709Z
UID:6999-1775763000-1775772000@dansequivive.fr
SUMMARY:Atelier musique d'ensemble (attention lendemain du bal ? à confirmer sur le tableau des présences)
DESCRIPTION:
URL:https://dansequivive.fr/evenement/atelier-musique-densemble-attention-lendemain-du-bal-a-confirmer-sur-le-tableau-des-presences/
LOCATION:Salle Eluard\, 2\, rue Burnley\, Vitry sur Seine\, 94400\, France
CATEGORIES:Atelier musique d'ensemble
END:VEVENT
BEGIN:VEVENT
DTSTART;TZID=Europe/Paris:20260408T193000
DTEND;TZID=Europe/Paris:20260408T220000
DTSTAMP:20260424T054729
CREATED:20260325T081404Z
LAST-MODIFIED:20260325T081404Z
UID:6996-1775676600-1775685600@dansequivive.fr
SUMMARY:Bal mensuel avec diatox
DESCRIPTION:
URL:https://dansequivive.fr/evenement/bal-mensuel-avec-diatox/
LOCATION:Salle Auber à Vitry\, 18 rue Auber\, Vitry\, 94400\, France
CATEGORIES:Bal mensuel
END:VEVENT
BEGIN:VEVENT
DTSTART;TZID=Europe/Paris:20260406T190000
DTEND;TZID=Europe/Paris:20260406T190000
DTSTAMP:20260424T054729
CREATED:20260326T081527Z
LAST-MODIFIED:20260326T081527Z
UID:7009-1775502000-1775502000@dansequivive.fr
SUMMARY:Atelier diato
DESCRIPTION:
URL:https://dansequivive.fr/evenement/atelier-diato-8/
LOCATION:Salle Auber à Vitry\, 18 rue Auber\, Vitry\, 94400\, France
CATEGORIES:Atelier diato
END:VEVENT
BEGIN:VEVENT
DTSTART;TZID=Europe/Paris:20260402T193000
DTEND;TZID=Europe/Paris:20260402T220000
DTSTAMP:20260424T054729
CREATED:20260325T080916Z
LAST-MODIFIED:20260325T081028Z
UID:6994-1775158200-1775167200@dansequivive.fr
SUMMARY:Atelier musique d'ensemble
DESCRIPTION:
URL:https://dansequivive.fr/evenement/atelier-musique-densemble/
LOCATION:Salle Eluard\, 2\, rue Burnley\, Vitry sur Seine\, 94400\, France
CATEGORIES:Atelier musique d'ensemble
END:VEVENT
BEGIN:VEVENT
DTSTART;TZID=Europe/Paris:20260401T193000
DTEND;TZID=Europe/Paris:20260401T220000
DTSTAMP:20260424T054729
CREATED:20260325T080734Z
LAST-MODIFIED:20260325T080734Z
UID:6992-1775071800-1775080800@dansequivive.fr
SUMMARY:Atelier chant à danser avec Martin
DESCRIPTION:
URL:https://dansequivive.fr/evenement/atelier-chant-a-danser-avec-martin/
LOCATION:Salle Auber à Vitry\, 18 rue Auber\, Vitry\, 94400\, France
CATEGORIES:Atelier chant dans la danse
END:VEVENT
BEGIN:VEVENT
DTSTART;TZID=Europe/Paris:20260330T190000
DTEND;TZID=Europe/Paris:20260330T190000
DTSTAMP:20260424T054729
CREATED:20251223T111212Z
LAST-MODIFIED:20260314T120437Z
UID:6803-1774897200-1774897200@dansequivive.fr
SUMMARY:Atelier diatox
DESCRIPTION:
URL:https://dansequivive.fr/evenement/atelier-diato-7/
LOCATION:Salle Auber à Vitry\, 18 rue Auber\, Vitry\, 94400\, France
CATEGORIES:Atelier diato
END:VEVENT
BEGIN:VEVENT
DTSTART;TZID=Europe/Paris:20260325T193000
DTEND;TZID=Europe/Paris:20260325T220000
DTSTAMP:20260424T054729
CREATED:20260309T083541Z
LAST-MODIFIED:20260309T083541Z
UID:6948-1774467000-1774476000@dansequivive.fr
SUMMARY:Atelier danse avec Serge
DESCRIPTION:
URL:https://dansequivive.fr/evenement/atelier-danse-avec-serge-3/
LOCATION:Salle Auber à Vitry\, 18 rue Auber\, Vitry\, 94400\, France
CATEGORIES:Atelier danse
END:VEVENT
END:VCALENDAR